BEGIN:VCALENDAR
VERSION:2.0
PRODID:-//Evangelische Kirchengemeinde Neuhof - ECPv5.16.4//NONSGML v1.0//EN
CALSCALE:GREGORIAN
METHOD:PUBLISH
X-WR-CALNAME:Evangelische Kirchengemeinde Neuhof
X-ORIGINAL-URL:https://www.kirchengemeinde-neuhof.de
X-WR-CALDESC:Veranstaltungen für Evangelische Kirchengemeinde Neuhof
BEGIN:VTIMEZONE
TZID:Europe/Berlin
BEGIN:DAYLIGHT
TZOFFSETFROM:+0100
TZOFFSETTO:+0200
TZNAME:CEST
DTSTART:20250330T010000
END:DAYLIGHT
BEGIN:STANDARD
TZOFFSETFROM:+0200
TZOFFSETTO:+0100
TZNAME:CET
DTSTART:20251026T010000
END:STANDARD
END:VTIMEZONE
BEGIN:VEVENT
DTSTART;TZID=Europe/Berlin:20251116T091500
DTEND;TZID=Europe/Berlin:20251116T091500
DTSTAMP:20260422T113611
CREATED:20251008T150227Z
LAST-MODIFIED:20251008T150609Z
UID:26892-1763284500-1763284500@www.kirchengemeinde-neuhof.de
SUMMARY:Gottesdienst
DESCRIPTION:zum Volkstrauertag \nPfarrer Heiner Reinhard
URL:https://www.kirchengemeinde-neuhof.de/event/gottesdienst-242/
ATTACH;FMTTYPE=image/jpeg:https://www.kirchengemeinde-neuhof.de/wp-content/uploads/2015/09/termine_03-1.jpg
END:VEVENT
END:VCALENDAR